BEGIN:VCALENDAR
VERSION:2.0
PRODID:-//Tukios.com/
BEGIN:VEVENT
UID:e831ca04-bf3c-465b-a8e3-30dd7c3a39d8@www.amundsonfuneralhome.com
DTSTAMP:20260422T190400Z
DTSTART:20260530T160000Z
DTEND:20260530T170000Z
SUMMARY:Memorial Service
DESCRIPTION:
URL:https://www.amundsonfuneralhome.com/obituaries/albert-cooley-iii
LOCATION: 1720 South 20th Street  Grand Forks ND 58201
GEO:47.9032783;-97.0566467
END:VEVENT
END:VCALENDAR