BEGIN:VCALENDAR
VERSION:2.0
PRODID:-//Tukios.com/
BEGIN:VEVENT
UID:5e1c0759-0c13-4694-910a-b40bcea542a9@www.amundsonfuneralhome.com
DTSTAMP:20260422T190832Z
DTSTART:20260530T150000Z
DTEND:20260530T160000Z
SUMMARY:Visitation
DESCRIPTION:
URL:https://www.amundsonfuneralhome.com/obituaries/albert-cooley-iii
LOCATION: 1720 South 20th Street  Grand Forks ND 58201
GEO:47.9032783;-97.0566467
END:VEVENT
END:VCALENDAR