BEGIN:VCALENDAR
VERSION:2.0
PRODID:-//Tukios.com/
BEGIN:VEVENT
UID:478a68b0-2abd-4f0d-b8c5-97cf34c6e221@www.amundsonfuneralhome.com
DTSTAMP:20260420T200719Z
DTSTART:20260502T190000Z
DTEND:20260502T200000Z
SUMMARY:Memorial Service
DESCRIPTION:
URL:https://www.amundsonfuneralhome.com/obituaries/carole-hagness
LOCATION: 2975 S 42nd St  Grand Forks ND 58208
GEO:47.8917971;-97.0873258
END:VEVENT
END:VCALENDAR