BEGIN:VCALENDAR
VERSION:2.0
PRODID:-//Tukios.com/
BEGIN:VEVENT
UID:ec040aea-1257-42ca-ac02-02737181f0ec@www.amundsonfuneralhome.com
DTSTAMP:20260420T195933Z
DTSTART:20260502T180000Z
DTEND:20260502T190000Z
SUMMARY:Visitation
DESCRIPTION:
URL:https://www.amundsonfuneralhome.com/obituaries/carole-hagness
LOCATION: 2975 S 42nd St  Grand Forks ND 58208
GEO:47.8917971;-97.0873258
END:VEVENT
END:VCALENDAR