BEGIN:VCALENDAR
VERSION:2.0
PRODID:-//Tukios.com/
BEGIN:VEVENT
UID:7bf7a00a-ce34-45a1-abcb-fbf538e298d8@www.amundsonfuneralhome.com
DTSTAMP:20260425T021130Z
DTSTART:20260501T150000Z
DTEND:20260501T160000Z
SUMMARY:Visitation
DESCRIPTION:
URL:https://www.amundsonfuneralhome.com/obituaries/elaine-mcdonald
LOCATION: 2975 S 42nd St  Grand Forks ND 58208
GEO:47.8917971;-97.0873258
END:VEVENT
END:VCALENDAR