BEGIN:VCALENDAR
VERSION:2.0
PRODID:-//Tukios.com/
BEGIN:VEVENT
UID:ae1662be-c664-44cb-aef8-f4904a9c68ff@www.amundsonfuneralhome.com
DTSTAMP:20260425T021213Z
DTSTART:20260501T160000Z
DTEND:20260501T170000Z
SUMMARY:Funeral Service
DESCRIPTION:
URL:https://www.amundsonfuneralhome.com/obituaries/elaine-mcdonald
LOCATION: 2975 S 42nd St  Grand Forks ND 58208
GEO:47.8917971;-97.0873258
END:VEVENT
END:VCALENDAR