BEGIN:VCALENDAR
VERSION:2.0
PRODID:-//Tukios.com/
BEGIN:VEVENT
UID:b0d06283-1f62-4150-9e93-603ed4c07bc5@www.amundsonfuneralhome.com
DTSTAMP:20260420T014228Z
DTSTART:20260425T160000Z
DTEND:20260425T170000Z
SUMMARY:Funeral Service
DESCRIPTION:
URL:https://www.amundsonfuneralhome.com/obituaries/james-jim-dunavan
LOCATION: 1710 Cherry Street  Grand Forks ND 58201
GEO:47.9035168;-97.0363526
END:VEVENT
END:VCALENDAR