BEGIN:VCALENDAR
VERSION:2.0
PRODID:-//Tukios.com/
BEGIN:VEVENT
UID:1e8474c3-f930-4feb-a70e-553a1aca0067@www.amundsonfuneralhome.com
DTSTAMP:20260420T014014Z
DTSTART:20260425T150000Z
DTEND:20260425T160000Z
SUMMARY:Visitation
DESCRIPTION:
URL:https://www.amundsonfuneralhome.com/obituaries/james-jim-dunavan
LOCATION: 1710 Cherry Street  Grand Forks ND 58201
GEO:47.9035168;-97.0363526
END:VEVENT
END:VCALENDAR