BEGIN:VCALENDAR
VERSION:2.0
PRODID:-//Tukios.com/
BEGIN:VEVENT
UID:22d18299-1723-4578-a94c-1a7fc6591531@www.amundsonfuneralhome.com
DTSTAMP:20260420T014607Z
DTSTART:20260424T220000Z
DTEND:20260425T000000Z
SUMMARY:Visitation
DESCRIPTION:
URL:https://www.amundsonfuneralhome.com/obituaries/james-jim-dunavan
LOCATION: 1710 Cherry Street  Grand Forks ND 58201
GEO:47.9035168;-97.0363526
END:VEVENT
END:VCALENDAR