BEGIN:VCALENDAR
VERSION:2.0
PRODID:-//Tukios.com/
BEGIN:VEVENT
UID:9a12c9c2-0024-4d83-8bb4-a871e0b5882e@www.amundsonfuneralhome.com
DTSTAMP:20260420T014358Z
DTSTART:20260425T000000Z
DTEND:20260425T010000Z
SUMMARY:Prayer Service
DESCRIPTION:
URL:https://www.amundsonfuneralhome.com/obituaries/james-jim-dunavan
LOCATION: 1710 Cherry Street  Grand Forks ND 58201
GEO:47.9035168;-97.0363526
END:VEVENT
END:VCALENDAR