BEGIN:VCALENDAR
VERSION:2.0
PRODID:-//Tukios.com/
BEGIN:VEVENT
UID:d3790bde-3541-4733-8724-0e1dd1e0399c@www.amundsonfuneralhome.com
DTSTAMP:20260424T071054Z
DTSTART:20260505T190000Z
DTEND:20260505T200000Z
SUMMARY:Celebration of Life
DESCRIPTION:
URL:https://www.amundsonfuneralhome.com/obituaries/james-jim-flynn
LOCATION: 2975 S 42nd St  Grand Forks ND 58208
GEO:47.8917971;-97.0873258
END:VEVENT
END:VCALENDAR