BEGIN:VCALENDAR
VERSION:2.0
PRODID:-//Tukios.com/
BEGIN:VEVENT
UID:93d568fd-a656-4089-a487-85f2186ea27d@www.amundsonfuneralhome.com
DTSTAMP:20260424T071627Z
DTSTART:20260505T180000Z
DTEND:20260505T190000Z
SUMMARY:Visitation
DESCRIPTION:
URL:https://www.amundsonfuneralhome.com/obituaries/james-jim-flynn
LOCATION: 2975 S 42nd St  Grand Forks ND 58208
GEO:47.8917971;-97.0873258
END:VEVENT
END:VCALENDAR